BEGIN:VCALENDAR
VERSION:2.0
PRODID:-//Putnam Independent Living Services - ECPv6.15.20//NONSGML v1.0//EN
CALSCALE:GREGORIAN
METHOD:PUBLISH
X-WR-CALNAME:Putnam Independent Living Services
X-ORIGINAL-URL:https://www.putnamils.org
X-WR-CALDESC:Events for Putnam Independent Living Services
REFRESH-INTERVAL;VALUE=DURATION:PT1H
X-Robots-Tag:noindex
X-PUBLISHED-TTL:PT1H
BEGIN:VTIMEZONE
TZID:UTC
BEGIN:STANDARD
TZOFFSETFROM:+0000
TZOFFSETTO:+0000
TZNAME:UTC
DTSTART:20180101T000000
END:STANDARD
END:VTIMEZONE
BEGIN:VEVENT
DTSTART;TZID=UTC:20210519T130000
DTEND;TZID=UTC:20210519T140000
DTSTAMP:20260424T001132
CREATED:20210331T223742Z
LAST-MODIFIED:20210331T224432Z
UID:10002975-1621429200-1621432800@www.putnamils.org
SUMMARY:Let's Get Social for Young Adults
DESCRIPTION:Come take advantage of this interactive virtual social skills group.  The group will focus on how to connect with peers and how to create meaningful relationships.  Each session is tailored to include a discussion and hands-on activities to assure participants receive immediate knowledge and skills. Join our group and we can grow our social skills together. \nWILC invites Young Adults to a Social Skills ZOOM  Workshop for 5 weeks starting Wednesday\, April 21 at 1PM \nClick here for Lets Get Social April May Flyer \nContact the organizer listed below for more information.
URL:https://www.putnamils.org/event/lets-get-social-for-young-adults/2021-05-19/
LOCATION:Internet\, NY\, United States
ORGANIZER;CN="Denise DelliSanti":MAILTO:ddelliSanti@wilc.org
GEO:40.7127753;-74.0059728
END:VEVENT
BEGIN:VEVENT
DTSTART;TZID=UTC:20210512T130000
DTEND;TZID=UTC:20210512T140000
DTSTAMP:20260424T001132
CREATED:20210331T223742Z
LAST-MODIFIED:20210331T224432Z
UID:10002974-1620824400-1620828000@www.putnamils.org
SUMMARY:Let's Get Social for Young Adults
DESCRIPTION:Come take advantage of this interactive virtual social skills group.  The group will focus on how to connect with peers and how to create meaningful relationships.  Each session is tailored to include a discussion and hands-on activities to assure participants receive immediate knowledge and skills. Join our group and we can grow our social skills together. \nWILC invites Young Adults to a Social Skills ZOOM  Workshop for 5 weeks starting Wednesday\, April 21 at 1PM \nClick here for Lets Get Social April May Flyer \nContact the organizer listed below for more information.
URL:https://www.putnamils.org/event/lets-get-social-for-young-adults/2021-05-12/
LOCATION:Internet\, NY\, United States
ORGANIZER;CN="Denise DelliSanti":MAILTO:ddelliSanti@wilc.org
GEO:40.7127753;-74.0059728
END:VEVENT
BEGIN:VEVENT
DTSTART;TZID=UTC:20210505T130000
DTEND;TZID=UTC:20210505T140000
DTSTAMP:20260424T001132
CREATED:20210331T223742Z
LAST-MODIFIED:20210331T224432Z
UID:10002973-1620219600-1620223200@www.putnamils.org
SUMMARY:Let's Get Social for Young Adults
DESCRIPTION:Come take advantage of this interactive virtual social skills group.  The group will focus on how to connect with peers and how to create meaningful relationships.  Each session is tailored to include a discussion and hands-on activities to assure participants receive immediate knowledge and skills. Join our group and we can grow our social skills together. \nWILC invites Young Adults to a Social Skills ZOOM  Workshop for 5 weeks starting Wednesday\, April 21 at 1PM \nClick here for Lets Get Social April May Flyer \nContact the organizer listed below for more information.
URL:https://www.putnamils.org/event/lets-get-social-for-young-adults/2021-05-05/
LOCATION:Internet\, NY\, United States
ORGANIZER;CN="Denise DelliSanti":MAILTO:ddelliSanti@wilc.org
GEO:40.7127753;-74.0059728
END:VEVENT
BEGIN:VEVENT
DTSTART;TZID=UTC:20210428T130000
DTEND;TZID=UTC:20210428T140000
DTSTAMP:20260424T001132
CREATED:20210331T223742Z
LAST-MODIFIED:20210331T224432Z
UID:10002972-1619614800-1619618400@www.putnamils.org
SUMMARY:Let's Get Social for Young Adults
DESCRIPTION:Come take advantage of this interactive virtual social skills group.  The group will focus on how to connect with peers and how to create meaningful relationships.  Each session is tailored to include a discussion and hands-on activities to assure participants receive immediate knowledge and skills. Join our group and we can grow our social skills together. \nWILC invites Young Adults to a Social Skills ZOOM  Workshop for 5 weeks starting Wednesday\, April 21 at 1PM \nClick here for Lets Get Social April May Flyer \nContact the organizer listed below for more information.
URL:https://www.putnamils.org/event/lets-get-social-for-young-adults/2021-04-28/
LOCATION:Internet\, NY\, United States
ORGANIZER;CN="Denise DelliSanti":MAILTO:ddelliSanti@wilc.org
GEO:40.7127753;-74.0059728
END:VEVENT
BEGIN:VEVENT
DTSTART;TZID=UTC:20210421T130000
DTEND;TZID=UTC:20210421T140000
DTSTAMP:20260424T001132
CREATED:20210331T223742Z
LAST-MODIFIED:20210331T224432Z
UID:10002971-1619010000-1619013600@www.putnamils.org
SUMMARY:Let's Get Social for Young Adults
DESCRIPTION:Come take advantage of this interactive virtual social skills group.  The group will focus on how to connect with peers and how to create meaningful relationships.  Each session is tailored to include a discussion and hands-on activities to assure participants receive immediate knowledge and skills. Join our group and we can grow our social skills together. \nWILC invites Young Adults to a Social Skills ZOOM  Workshop for 5 weeks starting Wednesday\, April 21 at 1PM \nClick here for Lets Get Social April May Flyer \nContact the organizer listed below for more information.
URL:https://www.putnamils.org/event/lets-get-social-for-young-adults/2021-04-21/
LOCATION:Internet\, NY\, United States
ORGANIZER;CN="Denise DelliSanti":MAILTO:ddelliSanti@wilc.org
GEO:40.7127753;-74.0059728
END:VEVENT
BEGIN:VEVENT
DTSTART;TZID=UTC:20210310T130000
DTEND;TZID=UTC:20210310T140000
DTSTAMP:20260424T001132
CREATED:20210205T002459Z
LAST-MODIFIED:20210205T021105Z
UID:10002714-1615381200-1615384800@www.putnamils.org
SUMMARY:Let's Get Social for Young Adults
DESCRIPTION:WILC and Bridges invite young adults to a five week Social Skills Workshop focusing on how to connect with peers and how to create a meaningful relationships through discussion and hands-on activities. \nFlyer for Lets Get Social for Young Adults \nSign up for Let’s Get Social by emailing DDelliSanti@wilc.org or call – 846-535-1561 \nFor more information contact the organizer listed below.
URL:https://www.putnamils.org/event/2309/2021-03-10/
LOCATION:Internet\, NY\, United States
ORGANIZER;CN="Denise DelliSanti":MAILTO:ddelliSanti@wilc.org
GEO:40.7127753;-74.0059728
END:VEVENT
BEGIN:VEVENT
DTSTART;TZID=UTC:20210303T130000
DTEND;TZID=UTC:20210303T140000
DTSTAMP:20260424T001132
CREATED:20210205T002459Z
LAST-MODIFIED:20210205T021105Z
UID:10002713-1614776400-1614780000@www.putnamils.org
SUMMARY:Let's Get Social for Young Adults
DESCRIPTION:WILC and Bridges invite young adults to a five week Social Skills Workshop focusing on how to connect with peers and how to create a meaningful relationships through discussion and hands-on activities. \nFlyer for Lets Get Social for Young Adults \nSign up for Let’s Get Social by emailing DDelliSanti@wilc.org or call – 846-535-1561 \nFor more information contact the organizer listed below.
URL:https://www.putnamils.org/event/2309/2021-03-03/
LOCATION:Internet\, NY\, United States
ORGANIZER;CN="Denise DelliSanti":MAILTO:ddelliSanti@wilc.org
GEO:40.7127753;-74.0059728
END:VEVENT
BEGIN:VEVENT
DTSTART;TZID=UTC:20210224T130000
DTEND;TZID=UTC:20210224T140000
DTSTAMP:20260424T001132
CREATED:20210205T002459Z
LAST-MODIFIED:20210205T021105Z
UID:10002712-1614171600-1614175200@www.putnamils.org
SUMMARY:Let's Get Social for Young Adults
DESCRIPTION:WILC and Bridges invite young adults to a five week Social Skills Workshop focusing on how to connect with peers and how to create a meaningful relationships through discussion and hands-on activities. \nFlyer for Lets Get Social for Young Adults \nSign up for Let’s Get Social by emailing DDelliSanti@wilc.org or call – 846-535-1561 \nFor more information contact the organizer listed below.
URL:https://www.putnamils.org/event/2309/2021-02-24/
LOCATION:Internet\, NY\, United States
ORGANIZER;CN="Denise DelliSanti":MAILTO:ddelliSanti@wilc.org
GEO:40.7127753;-74.0059728
END:VEVENT
BEGIN:VEVENT
DTSTART;TZID=UTC:20210217T130000
DTEND;TZID=UTC:20210217T140000
DTSTAMP:20260424T001132
CREATED:20210205T002459Z
LAST-MODIFIED:20210205T021105Z
UID:10002711-1613566800-1613570400@www.putnamils.org
SUMMARY:Let's Get Social for Young Adults
DESCRIPTION:WILC and Bridges invite young adults to a five week Social Skills Workshop focusing on how to connect with peers and how to create a meaningful relationships through discussion and hands-on activities. \nFlyer for Lets Get Social for Young Adults \nSign up for Let’s Get Social by emailing DDelliSanti@wilc.org or call – 846-535-1561 \nFor more information contact the organizer listed below.
URL:https://www.putnamils.org/event/2309/2021-02-17/
LOCATION:Internet\, NY\, United States
ORGANIZER;CN="Denise DelliSanti":MAILTO:ddelliSanti@wilc.org
GEO:40.7127753;-74.0059728
END:VEVENT
BEGIN:VEVENT
DTSTART;TZID=UTC:20210210T130000
DTEND;TZID=UTC:20210210T140000
DTSTAMP:20260424T001132
CREATED:20210205T002459Z
LAST-MODIFIED:20210205T021105Z
UID:10002710-1612962000-1612965600@www.putnamils.org
SUMMARY:Let's Get Social for Young Adults
DESCRIPTION:WILC and Bridges invite young adults to a five week Social Skills Workshop focusing on how to connect with peers and how to create a meaningful relationships through discussion and hands-on activities. \nFlyer for Lets Get Social for Young Adults \nSign up for Let’s Get Social by emailing DDelliSanti@wilc.org or call – 846-535-1561 \nFor more information contact the organizer listed below.
URL:https://www.putnamils.org/event/2309/2021-02-10/
LOCATION:Internet\, NY\, United States
ORGANIZER;CN="Denise DelliSanti":MAILTO:ddelliSanti@wilc.org
GEO:40.7127753;-74.0059728
END:VEVENT
BEGIN:VEVENT
DTSTART;TZID=UTC:20201214T120000
DTEND;TZID=UTC:20201214T134000
DTSTAMP:20260424T001132
CREATED:20201103T214215Z
LAST-MODIFIED:20201103T232153Z
UID:10002953-1607947200-1607953200@www.putnamils.org
SUMMARY:Let's Get Social
DESCRIPTION:We will focus on how to connect with our peers and hopefully create meaningful relationships. We tailor each workshop to include discussion and hands-on activities to assure you receive immediately applicable knowledge. Join our get-together where we grow together. \nFive weeks\, every Monday except Monday Nov. 30. \nClick here for Let’s get Social Flyer \nRegister for Let’s Get Social here. \nFor more information contact the organizer listed below.
URL:https://www.putnamils.org/event/lets-get-social-8/2020-12-14/
LOCATION:Internet\, NY\, United States
ORGANIZER;CN="Denise DelliSanti":MAILTO:ddelliSanti@wilc.org
GEO:40.7127753;-74.0059728
END:VEVENT
BEGIN:VEVENT
DTSTART;TZID=UTC:20201207T120000
DTEND;TZID=UTC:20201207T134000
DTSTAMP:20260424T001132
CREATED:20201103T214215Z
LAST-MODIFIED:20201103T232153Z
UID:10002952-1607342400-1607348400@www.putnamils.org
SUMMARY:Let's Get Social
DESCRIPTION:We will focus on how to connect with our peers and hopefully create meaningful relationships. We tailor each workshop to include discussion and hands-on activities to assure you receive immediately applicable knowledge. Join our get-together where we grow together. \nFive weeks\, every Monday except Monday Nov. 30. \nClick here for Let’s get Social Flyer \nRegister for Let’s Get Social here. \nFor more information contact the organizer listed below.
URL:https://www.putnamils.org/event/lets-get-social-8/2020-12-07/
LOCATION:Internet\, NY\, United States
ORGANIZER;CN="Denise DelliSanti":MAILTO:ddelliSanti@wilc.org
GEO:40.7127753;-74.0059728
END:VEVENT
BEGIN:VEVENT
DTSTART;TZID=UTC:20201123T120000
DTEND;TZID=UTC:20201123T134000
DTSTAMP:20260424T001132
CREATED:20201103T214215Z
LAST-MODIFIED:20201103T232153Z
UID:10002951-1606132800-1606138800@www.putnamils.org
SUMMARY:Let's Get Social
DESCRIPTION:We will focus on how to connect with our peers and hopefully create meaningful relationships. We tailor each workshop to include discussion and hands-on activities to assure you receive immediately applicable knowledge. Join our get-together where we grow together. \nFive weeks\, every Monday except Monday Nov. 30. \nClick here for Let’s get Social Flyer \nRegister for Let’s Get Social here. \nFor more information contact the organizer listed below.
URL:https://www.putnamils.org/event/lets-get-social-8/2020-11-23/
LOCATION:Internet\, NY\, United States
ORGANIZER;CN="Denise DelliSanti":MAILTO:ddelliSanti@wilc.org
GEO:40.7127753;-74.0059728
END:VEVENT
BEGIN:VEVENT
DTSTART;TZID=UTC:20201116T120000
DTEND;TZID=UTC:20201116T134000
DTSTAMP:20260424T001132
CREATED:20201103T214215Z
LAST-MODIFIED:20201103T232153Z
UID:10002950-1605528000-1605534000@www.putnamils.org
SUMMARY:Let's Get Social
DESCRIPTION:We will focus on how to connect with our peers and hopefully create meaningful relationships. We tailor each workshop to include discussion and hands-on activities to assure you receive immediately applicable knowledge. Join our get-together where we grow together. \nFive weeks\, every Monday except Monday Nov. 30. \nClick here for Let’s get Social Flyer \nRegister for Let’s Get Social here. \nFor more information contact the organizer listed below.
URL:https://www.putnamils.org/event/lets-get-social-8/2020-11-16/
LOCATION:Internet\, NY\, United States
ORGANIZER;CN="Denise DelliSanti":MAILTO:ddelliSanti@wilc.org
GEO:40.7127753;-74.0059728
END:VEVENT
BEGIN:VEVENT
DTSTART;TZID=UTC:20201109T120000
DTEND;TZID=UTC:20201109T134000
DTSTAMP:20260424T001132
CREATED:20201103T214215Z
LAST-MODIFIED:20201103T232153Z
UID:10002949-1604923200-1604929200@www.putnamils.org
SUMMARY:Let's Get Social
DESCRIPTION:We will focus on how to connect with our peers and hopefully create meaningful relationships. We tailor each workshop to include discussion and hands-on activities to assure you receive immediately applicable knowledge. Join our get-together where we grow together. \nFive weeks\, every Monday except Monday Nov. 30. \nClick here for Let’s get Social Flyer \nRegister for Let’s Get Social here. \nFor more information contact the organizer listed below.
URL:https://www.putnamils.org/event/lets-get-social-8/2020-11-09/
LOCATION:Internet\, NY\, United States
ORGANIZER;CN="Denise DelliSanti":MAILTO:ddelliSanti@wilc.org
GEO:40.7127753;-74.0059728
END:VEVENT
BEGIN:VEVENT
DTSTART;TZID=UTC:20190520T110000
DTEND;TZID=UTC:20190520T123000
DTSTAMP:20260424T001132
CREATED:20190411T214925Z
LAST-MODIFIED:20190507T230621Z
UID:10002591-1558350000-1558355400@www.putnamils.org
SUMMARY:Let's Get Social
DESCRIPTION:A three session social skills workshop that fosters confidence and self esteem while participants learn how to make friends\, interact with a group\, practice socializing and have fun. \nClick here for Let’s Get Social flyer \nTo register for Let’s Get Social click here. \nFor additional information contact the organizer listed below. \n 
URL:https://www.putnamils.org/event/lets-get-social-7/2019-05-20/
LOCATION:United States
ORGANIZER;CN="Denise DelliSanti":MAILTO:ddelliSanti@wilc.org
END:VEVENT
BEGIN:VEVENT
DTSTART;TZID=UTC:20190513T110000
DTEND;TZID=UTC:20190513T123000
DTSTAMP:20260424T001132
CREATED:20190411T214925Z
LAST-MODIFIED:20190507T230621Z
UID:10002590-1557745200-1557750600@www.putnamils.org
SUMMARY:Let's Get Social
DESCRIPTION:A three session social skills workshop that fosters confidence and self esteem while participants learn how to make friends\, interact with a group\, practice socializing and have fun. \nClick here for Let’s Get Social flyer \nTo register for Let’s Get Social click here. \nFor additional information contact the organizer listed below. \n 
URL:https://www.putnamils.org/event/lets-get-social-7/2019-05-13/
LOCATION:United States
ORGANIZER;CN="Denise DelliSanti":MAILTO:ddelliSanti@wilc.org
END:VEVENT
BEGIN:VEVENT
DTSTART;TZID=UTC:20190506T110000
DTEND;TZID=UTC:20190506T123000
DTSTAMP:20260424T001132
CREATED:20190411T214925Z
LAST-MODIFIED:20190507T230621Z
UID:10002589-1557140400-1557145800@www.putnamils.org
SUMMARY:Let's Get Social
DESCRIPTION:A three session social skills workshop that fosters confidence and self esteem while participants learn how to make friends\, interact with a group\, practice socializing and have fun. \nClick here for Let’s Get Social flyer \nTo register for Let’s Get Social click here. \nFor additional information contact the organizer listed below. \n 
URL:https://www.putnamils.org/event/lets-get-social-7/2019-05-06/
LOCATION:United States
ORGANIZER;CN="Denise DelliSanti":MAILTO:ddelliSanti@wilc.org
END:VEVENT
BEGIN:VEVENT
DTSTART;TZID=UTC:20190312T140000
DTEND;TZID=UTC:20190312T153000
DTSTAMP:20260424T001132
CREATED:20190208T014407Z
LAST-MODIFIED:20190208T014758Z
UID:10002720-1552399200-1552404600@www.putnamils.org
SUMMARY:Side by Side
DESCRIPTION:A four week support group for people looking to gain independence while transitioning into adulthood. Topics include meeting up with friends\, going to college\, work\, relationships and moving out of the family home. \nFlyer for Side by Side  \nContact the organizer listed below to register for Side by Side.
URL:https://www.putnamils.org/event/side-by-side-3/
LOCATION:WILC\, 10 County Center Road\, White Plains\, NY\, 10607\, United States
ORGANIZER;CN="Denise DelliSanti":MAILTO:ddelliSanti@wilc.org
GEO:41.0387269;-73.7799025
X-APPLE-STRUCTURED-LOCATION;VALUE=URI;X-ADDRESS=WILC 10 County Center Road White Plains NY 10607 United States;X-APPLE-RADIUS=500;X-TITLE=10 County Center Road:geo:-73.7799025,41.0387269
END:VEVENT
BEGIN:VEVENT
DTSTART;TZID=UTC:20190130T140000
DTEND;TZID=UTC:20190130T153000
DTSTAMP:20260424T001132
CREATED:20181204T002852Z
LAST-MODIFIED:20181205T002455Z
UID:10002680-1548856800-1548862200@www.putnamils.org
SUMMARY:Side by Side
DESCRIPTION:January 9\, 16\, 23\, 30 \nFour week support group for people with disabilities looking to gain independence while transitioning into adulthood.Topics covered: meeting up with friends\, going to college\, work\, relationships\, moving out of the family home. \nFlyer for Side by Side  \nRegister and/or get additional information from organizer listed below.
URL:https://www.putnamils.org/event/side-by-side-2/2019-01-30/
LOCATION:ACCES-VR Spring Valley\, 15 Perlmah Dr.\, 2nd floor\, Spring Valley\, NY\, 10977\, United States
ORGANIZER;CN="Denise DelliSanti":MAILTO:ddelliSanti@wilc.org
GEO:41.1061853;-74.0319989
X-APPLE-STRUCTURED-LOCATION;VALUE=URI;X-ADDRESS=ACCES-VR Spring Valley 15 Perlmah Dr. 2nd floor Spring Valley NY 10977 United States;X-APPLE-RADIUS=500;X-TITLE=15 Perlmah Dr.\, 2nd floor:geo:-74.0319989,41.1061853
END:VEVENT
BEGIN:VEVENT
DTSTART;TZID=UTC:20190123T140000
DTEND;TZID=UTC:20190123T153000
DTSTAMP:20260424T001132
CREATED:20181204T002852Z
LAST-MODIFIED:20181205T002455Z
UID:10002679-1548252000-1548257400@www.putnamils.org
SUMMARY:Side by Side
DESCRIPTION:January 9\, 16\, 23\, 30 \nFour week support group for people with disabilities looking to gain independence while transitioning into adulthood.Topics covered: meeting up with friends\, going to college\, work\, relationships\, moving out of the family home. \nFlyer for Side by Side  \nRegister and/or get additional information from organizer listed below.
URL:https://www.putnamils.org/event/side-by-side-2/2019-01-23/
LOCATION:ACCES-VR Spring Valley\, 15 Perlmah Dr.\, 2nd floor\, Spring Valley\, NY\, 10977\, United States
ORGANIZER;CN="Denise DelliSanti":MAILTO:ddelliSanti@wilc.org
GEO:41.1061853;-74.0319989
X-APPLE-STRUCTURED-LOCATION;VALUE=URI;X-ADDRESS=ACCES-VR Spring Valley 15 Perlmah Dr. 2nd floor Spring Valley NY 10977 United States;X-APPLE-RADIUS=500;X-TITLE=15 Perlmah Dr.\, 2nd floor:geo:-74.0319989,41.1061853
END:VEVENT
BEGIN:VEVENT
DTSTART;TZID=UTC:20190116T140000
DTEND;TZID=UTC:20190116T153000
DTSTAMP:20260424T001132
CREATED:20181204T002852Z
LAST-MODIFIED:20181205T002455Z
UID:10002678-1547647200-1547652600@www.putnamils.org
SUMMARY:Side by Side
DESCRIPTION:January 9\, 16\, 23\, 30 \nFour week support group for people with disabilities looking to gain independence while transitioning into adulthood.Topics covered: meeting up with friends\, going to college\, work\, relationships\, moving out of the family home. \nFlyer for Side by Side  \nRegister and/or get additional information from organizer listed below.
URL:https://www.putnamils.org/event/side-by-side-2/2019-01-16/
LOCATION:ACCES-VR Spring Valley\, 15 Perlmah Dr.\, 2nd floor\, Spring Valley\, NY\, 10977\, United States
ORGANIZER;CN="Denise DelliSanti":MAILTO:ddelliSanti@wilc.org
GEO:41.1061853;-74.0319989
X-APPLE-STRUCTURED-LOCATION;VALUE=URI;X-ADDRESS=ACCES-VR Spring Valley 15 Perlmah Dr. 2nd floor Spring Valley NY 10977 United States;X-APPLE-RADIUS=500;X-TITLE=15 Perlmah Dr.\, 2nd floor:geo:-74.0319989,41.1061853
END:VEVENT
BEGIN:VEVENT
DTSTART;TZID=UTC:20190109T140000
DTEND;TZID=UTC:20190109T153000
DTSTAMP:20260424T001132
CREATED:20181204T002852Z
LAST-MODIFIED:20181205T002455Z
UID:10002677-1547042400-1547047800@www.putnamils.org
SUMMARY:Side by Side
DESCRIPTION:January 9\, 16\, 23\, 30 \nFour week support group for people with disabilities looking to gain independence while transitioning into adulthood.Topics covered: meeting up with friends\, going to college\, work\, relationships\, moving out of the family home. \nFlyer for Side by Side  \nRegister and/or get additional information from organizer listed below.
URL:https://www.putnamils.org/event/side-by-side-2/2019-01-09/
LOCATION:ACCES-VR Spring Valley\, 15 Perlmah Dr.\, 2nd floor\, Spring Valley\, NY\, 10977\, United States
ORGANIZER;CN="Denise DelliSanti":MAILTO:ddelliSanti@wilc.org
GEO:41.1061853;-74.0319989
X-APPLE-STRUCTURED-LOCATION;VALUE=URI;X-ADDRESS=ACCES-VR Spring Valley 15 Perlmah Dr. 2nd floor Spring Valley NY 10977 United States;X-APPLE-RADIUS=500;X-TITLE=15 Perlmah Dr.\, 2nd floor:geo:-74.0319989,41.1061853
END:VEVENT
END:VCALENDAR