BEGIN:VCALENDAR
VERSION:2.0
PRODID:-//Putnam Independent Living Services - ECPv6.15.20//NONSGML v1.0//EN
CALSCALE:GREGORIAN
METHOD:PUBLISH
X-ORIGINAL-URL:https://www.putnamils.org
X-WR-CALDESC:Events for Putnam Independent Living Services
REFRESH-INTERVAL;VALUE=DURATION:PT1H
X-Robots-Tag:noindex
X-PUBLISHED-TTL:PT1H
BEGIN:VTIMEZONE
TZID:UTC
BEGIN:STANDARD
TZOFFSETFROM:+0000
TZOFFSETTO:+0000
TZNAME:UTC
DTSTART:20180101T000000
END:STANDARD
END:VTIMEZONE
BEGIN:VEVENT
DTSTART;TZID=UTC:20191015T093000
DTEND;TZID=UTC:20191015T123000
DTSTAMP:20260422T151015
CREATED:20191007T223236Z
LAST-MODIFIED:20191007T223407Z
UID:10002816-1571131800-1571142600@www.putnamils.org
SUMMARY:Empowering the Disability Vote
DESCRIPTION:An informative workshop about inclusion and accessibility at the polls and why it’s important for individuals with disabilities to vote. \nDemonstration of the Ballot Marking Devices (BMDs)\, featured speakers and panel discussion. \nFor information on speakers and more details click here to download the Empowering the Disability Vote flyer \nContact organizer listed below for additional information.
URL:https://www.putnamils.org/event/empowering-the-disability-vote/
LOCATION:Greenburgh Public Library\, 300 Tarrytown Rd.\, Elmsford\, NY\, 10523\, United States
ORGANIZER;CN="Lisa Tarricone":MAILTO:ltarricone@wilc.org
GEO:41.046391;-73.806793
X-APPLE-STRUCTURED-LOCATION;VALUE=URI;X-ADDRESS=Greenburgh Public Library 300 Tarrytown Rd. Elmsford NY 10523 United States;X-APPLE-RADIUS=500;X-TITLE=300 Tarrytown Rd.:geo:-73.806793,41.046391
END:VEVENT
BEGIN:VEVENT
DTSTART;TZID=UTC:20191015T110000
DTEND;TZID=UTC:20191015T120000
DTSTAMP:20260422T151015
CREATED:20180315T194944Z
LAST-MODIFIED:20180315T195342Z
UID:10001787-1571137200-1571140800@www.putnamils.org
SUMMARY:Diabetes Prevention Program
DESCRIPTION:If you have prediabetes you are at risk of it progressing to type 2 diabetes in 5 years. Type 2 puts you at risk for heart attack\, stroke\, blindness\, and more. \nYou can reduce your risk or prevent type 2 with this CDC approved lifestyle change program. The long-term support of a year long program can give you the skills you need to lose weight\, be more physically active and manage stress. \nA trained lifestyle coach will guide and encourage you and you will get the support of other participants with the same goals as you. \nWe will meet weekly\, followed by bi-monthy and then monthly to give you  ongoing support and the information you need. \nEmail dheilbrunn@wilc.org or call 845.988.7374 ext. 1126. \n 
URL:https://www.putnamils.org/event/diabetes-prevention-program/2019-10-15/
LOCATION:PILS\, 1441 Route 22\, Brewster\, NY\, 10509
ORGANIZER;CN="Lonna Kelly":MAILTO:lkelly@putnamils.org
GEO:41.4159553;-73.575139
X-APPLE-STRUCTURED-LOCATION;VALUE=URI;X-ADDRESS=PILS 1441 Route 22 Brewster NY 10509;X-APPLE-RADIUS=500;X-TITLE=1441 Route 22:geo:-73.575139,41.4159553
END:VEVENT
BEGIN:VEVENT
DTSTART;TZID=UTC:20191015T173000
DTEND;TZID=UTC:20191015T183000
DTSTAMP:20260422T151015
CREATED:20180326T220029Z
LAST-MODIFIED:20180326T220029Z
UID:10002347-1571160600-1571164200@www.putnamils.org
SUMMARY:Diabetes Prevention Program
DESCRIPTION:If you have prediabetes you are at risk of it progressing to type 2 diabetes in 5 years. Type 2 puts you at risk for heart attack\, stroke\, blindness\, and more. \nYou can reduce your risk or prevent type 2 with this CDC approved lifestyle change program. The long-term support of a year long program can give you the skills you need to lose weight\, be more physically active and manage stress. \nA trained lifestyle coach will guide and encourage you and you will get the support of other participants with the same goals as you. \nWe will meet weekly\, followed by bi-monthy and then monthly to give you  ongoing support and the information you need. \nEmail dheilbrunn@wilc.org or call 845.988.7374 ext. 1126. \n 
URL:https://www.putnamils.org/event/diabetes-prevention-program-2/2019-10-15/
LOCATION:PILS\, 1441 Route 22\, Brewster\, NY\, 10509
ORGANIZER;CN="Lonna Kelly":MAILTO:lkelly@putnamils.org
GEO:41.4159553;-73.575139
X-APPLE-STRUCTURED-LOCATION;VALUE=URI;X-ADDRESS=PILS 1441 Route 22 Brewster NY 10509;X-APPLE-RADIUS=500;X-TITLE=1441 Route 22:geo:-73.575139,41.4159553
END:VEVENT
END:VCALENDAR