BEGIN:VCALENDAR
VERSION:2.0
PRODID:-//Putnam Independent Living Services - ECPv6.15.20//NONSGML v1.0//EN
CALSCALE:GREGORIAN
METHOD:PUBLISH
X-ORIGINAL-URL:https://www.putnamils.org
X-WR-CALDESC:Events for Putnam Independent Living Services
REFRESH-INTERVAL;VALUE=DURATION:PT1H
X-Robots-Tag:noindex
X-PUBLISHED-TTL:PT1H
BEGIN:VTIMEZONE
TZID:UTC
BEGIN:STANDARD
TZOFFSETFROM:+0000
TZOFFSETTO:+0000
TZNAME:UTC
DTSTART:20170101T000000
END:STANDARD
END:VTIMEZONE
BEGIN:VEVENT
DTSTART;TZID=UTC:20180109T093000
DTEND;TZID=UTC:20180109T113000
DTSTAMP:20260422T061255
CREATED:20171218T205417Z
LAST-MODIFIED:20171218T205417Z
UID:10001596-1515490200-1515497400@www.putnamils.org
SUMMARY:My Health My Choice
DESCRIPTION:This hands-on healthy living workshop series is a great start to understanding and learning about how to take responsibility for and managing your own health. First session examines: Taking charge or your health and developing a health plan. \nRegister here by email. \nFlyer My Health My Choice My Responsibility \nContact organizer listed below for additional information.
URL:https://www.putnamils.org/event/my-health-my-choice/
LOCATION:WILC\, 10 County Center Road\, White Plains\, NY\, 10607\, United States
ORGANIZER;CN="Rebecka Palmer":MAILTO:rpalmer@wilc.org
GEO:41.0387269;-73.7799025
X-APPLE-STRUCTURED-LOCATION;VALUE=URI;X-ADDRESS=WILC 10 County Center Road White Plains NY 10607 United States;X-APPLE-RADIUS=500;X-TITLE=10 County Center Road:geo:-73.7799025,41.0387269
END:VEVENT
END:VCALENDAR